BEGIN:VCALENDAR
VERSION:2.0
PRODID:-//Music Promotion - Platinum Artist Development - ECPv6.15.17//NONSGML v1.0//EN
CALSCALE:GREGORIAN
METHOD:PUBLISH
X-ORIGINAL-URL:https://www.platinumartists.com.au
X-WR-CALDESC:Events for Music Promotion - Platinum Artist Development
REFRESH-INTERVAL;VALUE=DURATION:PT1H
X-Robots-Tag:noindex
X-PUBLISHED-TTL:PT1H
BEGIN:VTIMEZONE
TZID:UTC
BEGIN:STANDARD
TZOFFSETFROM:+0000
TZOFFSETTO:+0000
TZNAME:UTC
DTSTART:20210101T000000
END:STANDARD
END:VTIMEZONE
BEGIN:VEVENT
DTSTART;VALUE=DATE:20220701
DTEND;VALUE=DATE:20270703
DTSTAMP:20260425T105223
CREATED:20190419T121850Z
LAST-MODIFIED:20220706T094944Z
UID:8975-1656633600-1814572799@www.platinumartists.com.au
SUMMARY:Songwriting Workshop
DESCRIPTION:We are very excited to announce a new series of one on one songwriting workshops with multi platinum award winning & pop star Tania Doko taking place in Sydney and Melbourne. \nThe Workshop includes: \n\nOne on one songwriting session with Tania Doko and one of our Sydney or Melbourne production teams. Tania is the vocal powerhouse behind ‘Bachelor Girl’ and wrote with ‘The Veronicas’ on one of their hits ‘Don’t Say Goodbye’. She’s currently signed to Sony ATV and has also penned hits\, for ‘Samantha Jade’ and ‘Step Up 3D – Disney’.\n8 Hours Studio hire\nDemo production and a cutting edge final product that will showcase your talent!\nPersonal songwriting & vocal coach.\nVocal recording and editing\nHighest quality final demo mix.\nYou will be networking with the Industry\, provided with unmatched experience and mentoring.\n\nThis is a very rare opportunity\, Tania lives in the Pop Capital of Stockholm\, and doesn’t come to Australia often. Don’t miss out!. Limited spaces available only.
URL:https://www.platinumartists.com.au/event/songwriting-workshop/
LOCATION:Stockholm Office\, C/O Hagald & Eriksson Frejgatan Skyttevägen 24a\, Stockholm\, Saltsjöbaden\, 133 36 32 113 26
CATEGORIES:Workshops
ATTACH;FMTTYPE=image/jpeg:https://www.platinumartists.com.au/wp-content/uploads/2019/04/songwriting-workshop-tania-doko-platinum-artist.jpg
ORGANIZER;CN="Platinum Artists":MAILTO:bec@platinumartists.com.au
END:VEVENT
END:VCALENDAR