BEGIN:VCALENDAR
VERSION:2.0
PRODID:-//Music Promotion - Platinum Artist Development - ECPv6.15.17//NONSGML v1.0//EN
CALSCALE:GREGORIAN
METHOD:PUBLISH
X-ORIGINAL-URL:https://www.platinumartists.com.au
X-WR-CALDESC:Events for Music Promotion - Platinum Artist Development
REFRESH-INTERVAL;VALUE=DURATION:PT1H
X-Robots-Tag:noindex
X-PUBLISHED-TTL:PT1H
BEGIN:VTIMEZONE
TZID:Australia/Melbourne
BEGIN:STANDARD
TZOFFSETFROM:+1100
TZOFFSETTO:+1000
TZNAME:AEST
DTSTART:20210403T160000
END:STANDARD
BEGIN:DAYLIGHT
TZOFFSETFROM:+1000
TZOFFSETTO:+1100
TZNAME:AEDT
DTSTART:20211002T160000
END:DAYLIGHT
BEGIN:STANDARD
TZOFFSETFROM:+1100
TZOFFSETTO:+1000
TZNAME:AEST
DTSTART:20220402T160000
END:STANDARD
BEGIN:DAYLIGHT
TZOFFSETFROM:+1000
TZOFFSETTO:+1100
TZNAME:AEDT
DTSTART:20221001T160000
END:DAYLIGHT
BEGIN:STANDARD
TZOFFSETFROM:+1100
TZOFFSETTO:+1000
TZNAME:AEST
DTSTART:20230401T160000
END:STANDARD
BEGIN:DAYLIGHT
TZOFFSETFROM:+1000
TZOFFSETTO:+1100
TZNAME:AEDT
DTSTART:20230930T160000
END:DAYLIGHT
BEGIN:STANDARD
TZOFFSETFROM:+1100
TZOFFSETTO:+1000
TZNAME:AEST
DTSTART:20240406T160000
END:STANDARD
BEGIN:DAYLIGHT
TZOFFSETFROM:+1000
TZOFFSETTO:+1100
TZNAME:AEDT
DTSTART:20241005T160000
END:DAYLIGHT
BEGIN:STANDARD
TZOFFSETFROM:+1100
TZOFFSETTO:+1000
TZNAME:AEST
DTSTART:20250405T160000
END:STANDARD
BEGIN:DAYLIGHT
TZOFFSETFROM:+1000
TZOFFSETTO:+1100
TZNAME:AEDT
DTSTART:20251004T160000
END:DAYLIGHT
BEGIN:STANDARD
TZOFFSETFROM:+1100
TZOFFSETTO:+1000
TZNAME:AEST
DTSTART:20260404T160000
END:STANDARD
BEGIN:DAYLIGHT
TZOFFSETFROM:+1000
TZOFFSETTO:+1100
TZNAME:AEDT
DTSTART:20261003T160000
END:DAYLIGHT
BEGIN:STANDARD
TZOFFSETFROM:+1100
TZOFFSETTO:+1000
TZNAME:AEST
DTSTART:20270403T160000
END:STANDARD
BEGIN:DAYLIGHT
TZOFFSETFROM:+1000
TZOFFSETTO:+1100
TZNAME:AEDT
DTSTART:20271002T160000
END:DAYLIGHT
BEGIN:STANDARD
TZOFFSETFROM:+1100
TZOFFSETTO:+1000
TZNAME:AEST
DTSTART:20280401T160000
END:STANDARD
BEGIN:DAYLIGHT
TZOFFSETFROM:+1000
TZOFFSETTO:+1100
TZNAME:AEDT
DTSTART:20280930T160000
END:DAYLIGHT
END:VTIMEZONE
BEGIN:VTIMEZONE
TZID:UTC
BEGIN:STANDARD
TZOFFSETFROM:+0000
TZOFFSETTO:+0000
TZNAME:UTC
DTSTART:20210101T000000
END:STANDARD
END:VTIMEZONE
BEGIN:VEVENT
DTSTART;VALUE=DATE:20220701
DTEND;VALUE=DATE:20270703
DTSTAMP:20260425T201846
CREATED:20190419T121850Z
LAST-MODIFIED:20220706T094121Z
UID:8974-1656633600-1814572799@www.platinumartists.com.au
SUMMARY:Styling & Photo Session for Musicians
DESCRIPTION:Do you need styling advise and cool and relevant photos to represent you and your music? \nWe have wrapped it all up for you in one affordable package! \nWork with our team of award winning professionals dedicated to help emerging artists like YOU! \nThe styling & photography session includes: \n\nImage styling consultation: where we talk about your music\, your audience and brand image.\nStyle definition: we present you with a mood board of ideas and style inspiration for the photoshoot.\n2 hour Photo session in a professional Sydney studio.: Full hair and make up will be provided and then you will have one hour with the photographer. You will also receive tips and overall creative direction.\nIncludes final photographs (including full copyright and usage rights. )
URL:https://www.platinumartists.com.au/event/styling-photo-session-for-musicians/
LOCATION:Sydney Office\, 32-34 Oaks Ave\, Dee Why\, NSW\, 2099\, Australia
CATEGORIES:New Release
ATTACH;FMTTYPE=image/jpeg:https://www.platinumartists.com.au/wp-content/uploads/2019/04/styling-and-photo-session-for-musicians.jpg
ORGANIZER;CN="Platinum Artists":MAILTO:bec@platinumartists.com.au
END:VEVENT
BEGIN:VEVENT
DTSTART;VALUE=DATE:20220701
DTEND;VALUE=DATE:20270703
DTSTAMP:20260425T201846
CREATED:20190419T121850Z
LAST-MODIFIED:20220706T094944Z
UID:8975-1656633600-1814572799@www.platinumartists.com.au
SUMMARY:Songwriting Workshop
DESCRIPTION:We are very excited to announce a new series of one on one songwriting workshops with multi platinum award winning & pop star Tania Doko taking place in Sydney and Melbourne. \nThe Workshop includes: \n\nOne on one songwriting session with Tania Doko and one of our Sydney or Melbourne production teams. Tania is the vocal powerhouse behind ‘Bachelor Girl’ and wrote with ‘The Veronicas’ on one of their hits ‘Don’t Say Goodbye’. She’s currently signed to Sony ATV and has also penned hits\, for ‘Samantha Jade’ and ‘Step Up 3D – Disney’.\n8 Hours Studio hire\nDemo production and a cutting edge final product that will showcase your talent!\nPersonal songwriting & vocal coach.\nVocal recording and editing\nHighest quality final demo mix.\nYou will be networking with the Industry\, provided with unmatched experience and mentoring.\n\nThis is a very rare opportunity\, Tania lives in the Pop Capital of Stockholm\, and doesn’t come to Australia often. Don’t miss out!. Limited spaces available only.
URL:https://www.platinumartists.com.au/event/songwriting-workshop/
LOCATION:Stockholm Office\, C/O Hagald & Eriksson Frejgatan Skyttevägen 24a\, Stockholm\, Saltsjöbaden\, 133 36 32 113 26
CATEGORIES:Workshops
ATTACH;FMTTYPE=image/jpeg:https://www.platinumartists.com.au/wp-content/uploads/2019/04/songwriting-workshop-tania-doko-platinum-artist.jpg
ORGANIZER;CN="Platinum Artists":MAILTO:bec@platinumartists.com.au
END:VEVENT
BEGIN:VEVENT
DTSTART;VALUE=DATE:20220701
DTEND;VALUE=DATE:20270703
DTSTAMP:20260425T201846
CREATED:20190704T134828Z
LAST-MODIFIED:20220706T095144Z
UID:10214-1656633600-1814572799@www.platinumartists.com.au
SUMMARY:Electronic Dance Music Masterclass
DESCRIPTION:So do you want to write and produce your own club hit! We are excited to announce our new EDM/Dance Music workshop! \nInternational DJ Beth Yen is teaming up with Sydney’s own uber talented singer\, songwriter Rocco Bene. \nBeth travels the world with her infectious beats playing at exclusive venues and events. Her latest track “Who Cares?” was released on Freemasons Recordings and hit #4 on the UK club charts in 2015. Accordingly\, Freemasons have dubbed her “one of the brightest up and coming new DJ producers”. \nRocco has recently been ranked Top 10 on the ‘Kings of Spin’. He is on the rise with multiple critically acclaimed tracks under his belt!\nIncluded in this package: \n\nSongwriting session with Beth Yen and Rocco Bene\nEight hours studio hire\nA cutting edge final product\nPersonal songwriting and vocal coaching\nVocal recording and editing\nMentoring by industry professionals\n\nYou will also spend the day networking with industry professionals\, who will provide you with unmatched experience and mentoring.
URL:https://www.platinumartists.com.au/event/electronic-dance-music-masterclass/
LOCATION:Sydney Office\, 32-34 Oaks Ave\, Dee Why\, NSW\, 2099\, Australia
CATEGORIES:Masterclass
ATTACH;FMTTYPE=image/jpeg:https://www.platinumartists.com.au/wp-content/uploads/2019/07/dj-beth-yen-edm-masterclass.jpg
ORGANIZER;CN="Platinum Artists":MAILTO:bec@platinumartists.com.au
END:VEVENT
BEGIN:VEVENT
DTSTART;VALUE=DATE:20220701
DTEND;VALUE=DATE:20270703
DTSTAMP:20260425T201846
CREATED:20190704T134828Z
LAST-MODIFIED:20220706T094114Z
UID:10215-1656633600-1814572799@www.platinumartists.com.au
SUMMARY:Kickstart Your Career in Music
DESCRIPTION:I am Bec Caruana\, songwriter and recording artist. The service I provide is incredibly unique and will save you years of procrastinating and hunting around for the right people and prices to get your product up and running. Use me and my contacts and enter the music industry! \nIf you don’t know where to start your music career\, or you are ready to take it to the next level\, this could be for you. \nWith over 20 years in the music industry\, I can help you write your own songs\, or help you record and produce your original material. We coordinate your entire project from demo to release and media servicing. Thanks to my vast experience and knowledge of the industry I can source the best producers\, programmers\, engineers\, writers\, photographers and video directors for your project at below average costs.\nI will surround you with successful like-minded people and have you networking with the best while creating your music. \nI only work with genuine talent and take only the best artists around Australia. \nSo if you think you’ve got what it takes to be the next big thing but you don’t know where to start\, please introduce yourself! \nLooking forward to meeting you! \n\nBec
URL:https://www.platinumartists.com.au/event/kickstart-music-career/
LOCATION:Sydney Office\, 32-34 Oaks Ave\, Dee Why\, NSW\, 2099\, Australia
CATEGORIES:New Release
ORGANIZER;CN="Platinum Artists":MAILTO:bec@platinumartists.com.au
END:VEVENT
END:VCALENDAR